BEGIN:VCALENDAR
VERSION:2.0
PRODID:-//Finnegans Grille &amp; Pub - ECPv6.15.18//NONSGML v1.0//EN
CALSCALE:GREGORIAN
METHOD:PUBLISH
X-ORIGINAL-URL:https://finneganspc.com
X-WR-CALDESC:Events for Finnegans Grille &amp; Pub
REFRESH-INTERVAL;VALUE=DURATION:PT1H
X-Robots-Tag:noindex
X-PUBLISHED-TTL:PT1H
BEGIN:VTIMEZONE
TZID:America/New_York
BEGIN:DAYLIGHT
TZOFFSETFROM:-0500
TZOFFSETTO:-0400
TZNAME:EDT
DTSTART:20240310T070000
END:DAYLIGHT
BEGIN:STANDARD
TZOFFSETFROM:-0400
TZOFFSETTO:-0500
TZNAME:EST
DTSTART:20241103T060000
END:STANDARD
BEGIN:DAYLIGHT
TZOFFSETFROM:-0500
TZOFFSETTO:-0400
TZNAME:EDT
DTSTART:20250309T070000
END:DAYLIGHT
BEGIN:STANDARD
TZOFFSETFROM:-0400
TZOFFSETTO:-0500
TZNAME:EST
DTSTART:20251102T060000
END:STANDARD
BEGIN:DAYLIGHT
TZOFFSETFROM:-0500
TZOFFSETTO:-0400
TZNAME:EDT
DTSTART:20260308T070000
END:DAYLIGHT
BEGIN:STANDARD
TZOFFSETFROM:-0400
TZOFFSETTO:-0500
TZNAME:EST
DTSTART:20261101T060000
END:STANDARD
END:VTIMEZONE
BEGIN:VEVENT
DTSTART;TZID=America/New_York:20251001T183000
DTEND;TZID=America/New_York:20251001T203000
DTSTAMP:20260421T083001
CREATED:20250427T181505Z
LAST-MODIFIED:20260329T171302Z
UID:10000545-1759343400-1759350600@finneganspc.com
SUMMARY:DJ Bingo on Wing It Wednesday
DESCRIPTION:$.99 Boneless or Traditional Wings\nDJ Bingo 6:30 to 8:30
URL:https://finneganspc.com/happening/dj-bingo-on-wing-wednesday/2025-10-01/
ATTACH;FMTTYPE=image/jpeg:https://finneganspc.com/wp-content/uploads/2025/04/wednesday-wings-and-dj-bingo.jpg
END:VEVENT
BEGIN:VEVENT
DTSTART;TZID=America/New_York:20251002T190000
DTEND;TZID=America/New_York:20251002T210000
DTSTAMP:20260421T083001
CREATED:20250427T181936Z
LAST-MODIFIED:20260329T171632Z
UID:10001328-1759431600-1759438800@finneganspc.com
SUMMARY:Thirsty Thursday
DESCRIPTION:The Finnegan $12
URL:https://finneganspc.com/happening/thirsty-thursday/2025-10-02/
ATTACH;FMTTYPE=image/jpeg:https://finneganspc.com/wp-content/uploads/2025/04/thursday-trivia.jpg
END:VEVENT
BEGIN:VEVENT
DTSTART;TZID=America/New_York:20251007T170000
DTEND;TZID=America/New_York:20251007T210000
DTSTAMP:20260421T083001
CREATED:20250427T180203Z
LAST-MODIFIED:20260329T171227Z
UID:10000285-1759856400-1759870800@finneganspc.com
SUMMARY:Taco Tuesday with Lee James
DESCRIPTION:2 Tacos with Chips and Salsa $8
URL:https://finneganspc.com/happening/taco-tuesday-with-lee-james/2025-10-07/
ATTACH;FMTTYPE=image/jpeg:https://finneganspc.com/wp-content/uploads/2025/04/tuesday-tacos-with-lee-james.jpg
END:VEVENT
BEGIN:VEVENT
DTSTART;TZID=America/New_York:20251008T183000
DTEND;TZID=America/New_York:20251008T203000
DTSTAMP:20260421T083001
CREATED:20250427T181505Z
LAST-MODIFIED:20260329T171302Z
UID:10000546-1759948200-1759955400@finneganspc.com
SUMMARY:DJ Bingo on Wing It Wednesday
DESCRIPTION:$.99 Boneless or Traditional Wings\nDJ Bingo 6:30 to 8:30
URL:https://finneganspc.com/happening/dj-bingo-on-wing-wednesday/2025-10-08/
ATTACH;FMTTYPE=image/jpeg:https://finneganspc.com/wp-content/uploads/2025/04/wednesday-wings-and-dj-bingo.jpg
END:VEVENT
BEGIN:VEVENT
DTSTART;TZID=America/New_York:20251009T190000
DTEND;TZID=America/New_York:20251009T210000
DTSTAMP:20260421T083001
CREATED:20250427T181936Z
LAST-MODIFIED:20260329T171632Z
UID:10001329-1760036400-1760043600@finneganspc.com
SUMMARY:Thirsty Thursday
DESCRIPTION:The Finnegan $12
URL:https://finneganspc.com/happening/thirsty-thursday/2025-10-09/
ATTACH;FMTTYPE=image/jpeg:https://finneganspc.com/wp-content/uploads/2025/04/thursday-trivia.jpg
END:VEVENT
BEGIN:VEVENT
DTSTART;TZID=America/New_York:20251014T170000
DTEND;TZID=America/New_York:20251014T210000
DTSTAMP:20260421T083001
CREATED:20250427T180203Z
LAST-MODIFIED:20260329T171227Z
UID:10000286-1760461200-1760475600@finneganspc.com
SUMMARY:Taco Tuesday with Lee James
DESCRIPTION:2 Tacos with Chips and Salsa $8
URL:https://finneganspc.com/happening/taco-tuesday-with-lee-james/2025-10-14/
ATTACH;FMTTYPE=image/jpeg:https://finneganspc.com/wp-content/uploads/2025/04/tuesday-tacos-with-lee-james.jpg
END:VEVENT
BEGIN:VEVENT
DTSTART;TZID=America/New_York:20251015T183000
DTEND;TZID=America/New_York:20251015T203000
DTSTAMP:20260421T083001
CREATED:20250427T181505Z
LAST-MODIFIED:20260329T171302Z
UID:10000547-1760553000-1760560200@finneganspc.com
SUMMARY:DJ Bingo on Wing It Wednesday
DESCRIPTION:$.99 Boneless or Traditional Wings\nDJ Bingo 6:30 to 8:30
URL:https://finneganspc.com/happening/dj-bingo-on-wing-wednesday/2025-10-15/
ATTACH;FMTTYPE=image/jpeg:https://finneganspc.com/wp-content/uploads/2025/04/wednesday-wings-and-dj-bingo.jpg
END:VEVENT
BEGIN:VEVENT
DTSTART;TZID=America/New_York:20251016T190000
DTEND;TZID=America/New_York:20251016T210000
DTSTAMP:20260421T083001
CREATED:20250427T181936Z
LAST-MODIFIED:20260329T171632Z
UID:10001330-1760641200-1760648400@finneganspc.com
SUMMARY:Thirsty Thursday
DESCRIPTION:The Finnegan $12
URL:https://finneganspc.com/happening/thirsty-thursday/2025-10-16/
ATTACH;FMTTYPE=image/jpeg:https://finneganspc.com/wp-content/uploads/2025/04/thursday-trivia.jpg
END:VEVENT
BEGIN:VEVENT
DTSTART;TZID=America/New_York:20251021T170000
DTEND;TZID=America/New_York:20251021T210000
DTSTAMP:20260421T083001
CREATED:20250427T180203Z
LAST-MODIFIED:20260329T171227Z
UID:10000287-1761066000-1761080400@finneganspc.com
SUMMARY:Taco Tuesday with Lee James
DESCRIPTION:2 Tacos with Chips and Salsa $8
URL:https://finneganspc.com/happening/taco-tuesday-with-lee-james/2025-10-21/
ATTACH;FMTTYPE=image/jpeg:https://finneganspc.com/wp-content/uploads/2025/04/tuesday-tacos-with-lee-james.jpg
END:VEVENT
BEGIN:VEVENT
DTSTART;TZID=America/New_York:20251022T183000
DTEND;TZID=America/New_York:20251022T203000
DTSTAMP:20260421T083001
CREATED:20250427T181505Z
LAST-MODIFIED:20260329T171302Z
UID:10000548-1761157800-1761165000@finneganspc.com
SUMMARY:DJ Bingo on Wing It Wednesday
DESCRIPTION:$.99 Boneless or Traditional Wings\nDJ Bingo 6:30 to 8:30
URL:https://finneganspc.com/happening/dj-bingo-on-wing-wednesday/2025-10-22/
ATTACH;FMTTYPE=image/jpeg:https://finneganspc.com/wp-content/uploads/2025/04/wednesday-wings-and-dj-bingo.jpg
END:VEVENT
BEGIN:VEVENT
DTSTART;TZID=America/New_York:20251023T190000
DTEND;TZID=America/New_York:20251023T210000
DTSTAMP:20260421T083001
CREATED:20250427T181936Z
LAST-MODIFIED:20260329T171632Z
UID:10001331-1761246000-1761253200@finneganspc.com
SUMMARY:Thirsty Thursday
DESCRIPTION:The Finnegan $12
URL:https://finneganspc.com/happening/thirsty-thursday/2025-10-23/
ATTACH;FMTTYPE=image/jpeg:https://finneganspc.com/wp-content/uploads/2025/04/thursday-trivia.jpg
END:VEVENT
BEGIN:VEVENT
DTSTART;TZID=America/New_York:20251028T170000
DTEND;TZID=America/New_York:20251028T210000
DTSTAMP:20260421T083001
CREATED:20250427T180203Z
LAST-MODIFIED:20260329T171227Z
UID:10000288-1761670800-1761685200@finneganspc.com
SUMMARY:Taco Tuesday with Lee James
DESCRIPTION:2 Tacos with Chips and Salsa $8
URL:https://finneganspc.com/happening/taco-tuesday-with-lee-james/2025-10-28/
ATTACH;FMTTYPE=image/jpeg:https://finneganspc.com/wp-content/uploads/2025/04/tuesday-tacos-with-lee-james.jpg
END:VEVENT
BEGIN:VEVENT
DTSTART;TZID=America/New_York:20251029T183000
DTEND;TZID=America/New_York:20251029T203000
DTSTAMP:20260421T083001
CREATED:20250427T181505Z
LAST-MODIFIED:20260329T171302Z
UID:10000549-1761762600-1761769800@finneganspc.com
SUMMARY:DJ Bingo on Wing It Wednesday
DESCRIPTION:$.99 Boneless or Traditional Wings\nDJ Bingo 6:30 to 8:30
URL:https://finneganspc.com/happening/dj-bingo-on-wing-wednesday/2025-10-29/
ATTACH;FMTTYPE=image/jpeg:https://finneganspc.com/wp-content/uploads/2025/04/wednesday-wings-and-dj-bingo.jpg
END:VEVENT
BEGIN:VEVENT
DTSTART;TZID=America/New_York:20251030T190000
DTEND;TZID=America/New_York:20251030T210000
DTSTAMP:20260421T083001
CREATED:20250427T181936Z
LAST-MODIFIED:20260329T171632Z
UID:10001332-1761850800-1761858000@finneganspc.com
SUMMARY:Thirsty Thursday
DESCRIPTION:The Finnegan $12
URL:https://finneganspc.com/happening/thirsty-thursday/2025-10-30/
ATTACH;FMTTYPE=image/jpeg:https://finneganspc.com/wp-content/uploads/2025/04/thursday-trivia.jpg
END:VEVENT
END:VCALENDAR