BEGIN:VCALENDAR
VERSION:2.0
PRODID:-//Finnegans Grille &amp; Pub - ECPv6.15.18//NONSGML v1.0//EN
CALSCALE:GREGORIAN
METHOD:PUBLISH
X-ORIGINAL-URL:https://finneganspc.com
X-WR-CALDESC:Events for Finnegans Grille &amp; Pub
REFRESH-INTERVAL;VALUE=DURATION:PT1H
X-Robots-Tag:noindex
X-PUBLISHED-TTL:PT1H
BEGIN:VTIMEZONE
TZID:America/New_York
BEGIN:DAYLIGHT
TZOFFSETFROM:-0500
TZOFFSETTO:-0400
TZNAME:EDT
DTSTART:20250309T070000
END:DAYLIGHT
BEGIN:STANDARD
TZOFFSETFROM:-0400
TZOFFSETTO:-0500
TZNAME:EST
DTSTART:20251102T060000
END:STANDARD
BEGIN:DAYLIGHT
TZOFFSETFROM:-0500
TZOFFSETTO:-0400
TZNAME:EDT
DTSTART:20260308T070000
END:DAYLIGHT
BEGIN:STANDARD
TZOFFSETFROM:-0400
TZOFFSETTO:-0500
TZNAME:EST
DTSTART:20261101T060000
END:STANDARD
BEGIN:DAYLIGHT
TZOFFSETFROM:-0500
TZOFFSETTO:-0400
TZNAME:EDT
DTSTART:20270314T070000
END:DAYLIGHT
BEGIN:STANDARD
TZOFFSETFROM:-0400
TZOFFSETTO:-0500
TZNAME:EST
DTSTART:20271107T060000
END:STANDARD
END:VTIMEZONE
BEGIN:VEVENT
DTSTART;TZID=America/New_York:20260421T170000
DTEND;TZID=America/New_York:20260421T210000
DTSTAMP:20260421T070810
CREATED:20250427T180203Z
LAST-MODIFIED:20260329T171227Z
UID:10000313-1776790800-1776805200@finneganspc.com
SUMMARY:Taco Tuesday with Lee James
DESCRIPTION:2 Tacos with Chips and Salsa $8
URL:https://finneganspc.com/happening/taco-tuesday-with-lee-james/2026-04-21/
ATTACH;FMTTYPE=image/jpeg:https://finneganspc.com/wp-content/uploads/2025/04/tuesday-tacos-with-lee-james.jpg
END:VEVENT
BEGIN:VEVENT
DTSTART;TZID=America/New_York:20260422T183000
DTEND;TZID=America/New_York:20260422T203000
DTSTAMP:20260421T070810
CREATED:20250427T181505Z
LAST-MODIFIED:20260329T171302Z
UID:10000574-1776882600-1776889800@finneganspc.com
SUMMARY:DJ Bingo on Wing It Wednesday
DESCRIPTION:$.99 Boneless or Traditional Wings\nDJ Bingo 6:30 to 8:30
URL:https://finneganspc.com/happening/dj-bingo-on-wing-wednesday/2026-04-22/
ATTACH;FMTTYPE=image/jpeg:https://finneganspc.com/wp-content/uploads/2025/04/wednesday-wings-and-dj-bingo.jpg
END:VEVENT
BEGIN:VEVENT
DTSTART;TZID=America/New_York:20260423T190000
DTEND;TZID=America/New_York:20260423T210000
DTSTAMP:20260421T070810
CREATED:20250427T181936Z
LAST-MODIFIED:20260329T171632Z
UID:10001357-1776970800-1776978000@finneganspc.com
SUMMARY:Thirsty Thursday
DESCRIPTION:The Finnegan $12
URL:https://finneganspc.com/happening/thirsty-thursday/2026-04-23/
ATTACH;FMTTYPE=image/jpeg:https://finneganspc.com/wp-content/uploads/2025/04/thursday-trivia.jpg
END:VEVENT
BEGIN:VEVENT
DTSTART;TZID=America/New_York:20260424T150000
DTEND;TZID=America/New_York:20260424T200000
DTSTAMP:20260421T070810
CREATED:20260329T172203Z
LAST-MODIFIED:20260329T173035Z
UID:10005666-1777042800-1777060800@finneganspc.com
SUMMARY:TGIF
DESCRIPTION:Finn’s Big Fish Platter $12\nOpen Jukebox 3 to 8
URL:https://finneganspc.com/happening/tgif/2026-04-24/
ATTACH;FMTTYPE=image/png:https://finneganspc.com/wp-content/uploads/2026/03/tgif-fridays.png
END:VEVENT
BEGIN:VEVENT
DTSTART;TZID=America/New_York:20260425T183000
DTEND;TZID=America/New_York:20260425T203000
DTSTAMP:20260421T070810
CREATED:20260329T172300Z
LAST-MODIFIED:20260329T173003Z
UID:10005927-1777141800-1777149000@finneganspc.com
SUMMARY:Super Saturday
DESCRIPTION:Hot Dog Basket $7\nDJ Bingo 6:30 to 8:30
URL:https://finneganspc.com/happening/super-saturday/2026-04-25/
ATTACH;FMTTYPE=image/png:https://finneganspc.com/wp-content/uploads/2026/03/super-saturdays.png
END:VEVENT
BEGIN:VEVENT
DTSTART;TZID=America/New_York:20260426T110000
DTEND;TZID=America/New_York:20260426T220000
DTSTAMP:20260421T070810
CREATED:20250428T135830Z
LAST-MODIFIED:20251209T042105Z
UID:10004774-1777201200-1777240800@finneganspc.com
SUMMARY:Irish Sunday
DESCRIPTION:
URL:https://finneganspc.com/happening/irish-sunday/2026-04-26/
ATTACH;FMTTYPE=image/jpeg:https://finneganspc.com/wp-content/uploads/2025/04/sunday-irish-reubens-fish-n-chips.jpg
END:VEVENT
BEGIN:VEVENT
DTSTART;TZID=America/New_York:20260427T180000
DTEND;TZID=America/New_York:20260427T210000
DTSTAMP:20260421T070810
CREATED:20260329T171501Z
LAST-MODIFIED:20260329T171501Z
UID:10005390-1777312800-1777323600@finneganspc.com
SUMMARY:Karaoke with Burger Mania
DESCRIPTION:Karaoke with Broadway to Boca
URL:https://finneganspc.com/happening/karaoke-with-burger-mania-2-2/2026-04-27/
ATTACH;FMTTYPE=image/jpeg:https://finneganspc.com/wp-content/uploads/2025/04/monday-burger-mania-karaoka.jpg
END:VEVENT
BEGIN:VEVENT
DTSTART;TZID=America/New_York:20260428T170000
DTEND;TZID=America/New_York:20260428T210000
DTSTAMP:20260421T070810
CREATED:20250427T180203Z
LAST-MODIFIED:20260329T171227Z
UID:10000314-1777395600-1777410000@finneganspc.com
SUMMARY:Taco Tuesday with Lee James
DESCRIPTION:2 Tacos with Chips and Salsa $8
URL:https://finneganspc.com/happening/taco-tuesday-with-lee-james/2026-04-28/
ATTACH;FMTTYPE=image/jpeg:https://finneganspc.com/wp-content/uploads/2025/04/tuesday-tacos-with-lee-james.jpg
END:VEVENT
BEGIN:VEVENT
DTSTART;TZID=America/New_York:20260429T183000
DTEND;TZID=America/New_York:20260429T203000
DTSTAMP:20260421T070810
CREATED:20250427T181505Z
LAST-MODIFIED:20260329T171302Z
UID:10000575-1777487400-1777494600@finneganspc.com
SUMMARY:DJ Bingo on Wing It Wednesday
DESCRIPTION:$.99 Boneless or Traditional Wings\nDJ Bingo 6:30 to 8:30
URL:https://finneganspc.com/happening/dj-bingo-on-wing-wednesday/2026-04-29/
ATTACH;FMTTYPE=image/jpeg:https://finneganspc.com/wp-content/uploads/2025/04/wednesday-wings-and-dj-bingo.jpg
END:VEVENT
BEGIN:VEVENT
DTSTART;TZID=America/New_York:20260430T190000
DTEND;TZID=America/New_York:20260430T210000
DTSTAMP:20260421T070810
CREATED:20250427T181936Z
LAST-MODIFIED:20260329T171632Z
UID:10001358-1777575600-1777582800@finneganspc.com
SUMMARY:Thirsty Thursday
DESCRIPTION:The Finnegan $12
URL:https://finneganspc.com/happening/thirsty-thursday/2026-04-30/
ATTACH;FMTTYPE=image/jpeg:https://finneganspc.com/wp-content/uploads/2025/04/thursday-trivia.jpg
END:VEVENT
END:VCALENDAR