BEGIN:VCALENDAR
VERSION:2.0
PRODID:-//Finnegans Grille &amp; Pub - ECPv6.15.18//NONSGML v1.0//EN
CALSCALE:GREGORIAN
METHOD:PUBLISH
X-WR-CALNAME:Finnegans Grille &amp; Pub
X-ORIGINAL-URL:https://finneganspc.com
X-WR-CALDESC:Events for Finnegans Grille &amp; Pub
REFRESH-INTERVAL;VALUE=DURATION:PT1H
X-Robots-Tag:noindex
X-PUBLISHED-TTL:PT1H
BEGIN:VTIMEZONE
TZID:America/New_York
BEGIN:DAYLIGHT
TZOFFSETFROM:-0500
TZOFFSETTO:-0400
TZNAME:EDT
DTSTART:20260308T070000
END:DAYLIGHT
BEGIN:STANDARD
TZOFFSETFROM:-0400
TZOFFSETTO:-0500
TZNAME:EST
DTSTART:20261101T060000
END:STANDARD
BEGIN:DAYLIGHT
TZOFFSETFROM:-0500
TZOFFSETTO:-0400
TZNAME:EDT
DTSTART:20270314T070000
END:DAYLIGHT
BEGIN:STANDARD
TZOFFSETFROM:-0400
TZOFFSETTO:-0500
TZNAME:EST
DTSTART:20271107T060000
END:STANDARD
BEGIN:DAYLIGHT
TZOFFSETFROM:-0500
TZOFFSETTO:-0400
TZNAME:EDT
DTSTART:20280312T070000
END:DAYLIGHT
BEGIN:STANDARD
TZOFFSETFROM:-0400
TZOFFSETTO:-0500
TZNAME:EST
DTSTART:20281105T060000
END:STANDARD
END:VTIMEZONE
BEGIN:VEVENT
DTSTART;TZID=America/New_York:20270726T180000
DTEND;TZID=America/New_York:20270726T210000
DTSTAMP:20260422T062819
CREATED:20260329T171501Z
LAST-MODIFIED:20260329T171501Z
UID:10005455-1816624800-1816635600@finneganspc.com
SUMMARY:Karaoke with Burger Mania
DESCRIPTION:Karaoke with Broadway to Boca
URL:https://finneganspc.com/happening/karaoke-with-burger-mania-2-2/2027-07-26/
ATTACH;FMTTYPE=image/jpeg:https://finneganspc.com/wp-content/uploads/2025/04/monday-burger-mania-karaoka.jpg
END:VEVENT
BEGIN:VEVENT
DTSTART;TZID=America/New_York:20270727T170000
DTEND;TZID=America/New_York:20270727T210000
DTSTAMP:20260422T062819
CREATED:20250427T180203Z
LAST-MODIFIED:20260329T171227Z
UID:10000379-1816707600-1816722000@finneganspc.com
SUMMARY:Taco Tuesday with Lee James
DESCRIPTION:2 Tacos with Chips and Salsa $8
URL:https://finneganspc.com/happening/taco-tuesday-with-lee-james/2027-07-27/
ATTACH;FMTTYPE=image/jpeg:https://finneganspc.com/wp-content/uploads/2025/04/tuesday-tacos-with-lee-james.jpg
END:VEVENT
BEGIN:VEVENT
DTSTART;TZID=America/New_York:20270728T183000
DTEND;TZID=America/New_York:20270728T203000
DTSTAMP:20260422T062819
CREATED:20250427T181505Z
LAST-MODIFIED:20260329T171302Z
UID:10000640-1816799400-1816806600@finneganspc.com
SUMMARY:DJ Bingo on Wing It Wednesday
DESCRIPTION:$.99 Boneless or Traditional Wings\nDJ Bingo 6:30 to 8:30
URL:https://finneganspc.com/happening/dj-bingo-on-wing-wednesday/2027-07-28/
ATTACH;FMTTYPE=image/jpeg:https://finneganspc.com/wp-content/uploads/2025/04/wednesday-wings-and-dj-bingo.jpg
END:VEVENT
BEGIN:VEVENT
DTSTART;TZID=America/New_York:20270729T190000
DTEND;TZID=America/New_York:20270729T210000
DTSTAMP:20260422T062819
CREATED:20250427T181936Z
LAST-MODIFIED:20260329T171632Z
UID:10001423-1816887600-1816894800@finneganspc.com
SUMMARY:Thirsty Thursday
DESCRIPTION:The Finnegan $12
URL:https://finneganspc.com/happening/thirsty-thursday/2027-07-29/
ATTACH;FMTTYPE=image/jpeg:https://finneganspc.com/wp-content/uploads/2025/04/thursday-trivia.jpg
END:VEVENT
BEGIN:VEVENT
DTSTART;TZID=America/New_York:20270730T150000
DTEND;TZID=America/New_York:20270730T200000
DTSTAMP:20260422T062819
CREATED:20260329T172203Z
LAST-MODIFIED:20260329T173035Z
UID:10005732-1816959600-1816977600@finneganspc.com
SUMMARY:TGIF
DESCRIPTION:Finn’s Big Fish Platter $12\nOpen Jukebox 3 to 8
URL:https://finneganspc.com/happening/tgif/2027-07-30/
ATTACH;FMTTYPE=image/png:https://finneganspc.com/wp-content/uploads/2026/03/tgif-fridays.png
END:VEVENT
BEGIN:VEVENT
DTSTART;TZID=America/New_York:20270731T183000
DTEND;TZID=America/New_York:20270731T203000
DTSTAMP:20260422T062819
CREATED:20260329T172300Z
LAST-MODIFIED:20260329T173003Z
UID:10005993-1817058600-1817065800@finneganspc.com
SUMMARY:Super Saturday
DESCRIPTION:Hot Dog Basket $7\nDJ Bingo 6:30 to 8:30
URL:https://finneganspc.com/happening/super-saturday/2027-07-31/
ATTACH;FMTTYPE=image/png:https://finneganspc.com/wp-content/uploads/2026/03/super-saturdays.png
END:VEVENT
BEGIN:VEVENT
DTSTART;TZID=America/New_York:20270801T110000
DTEND;TZID=America/New_York:20270801T220000
DTSTAMP:20260422T062819
CREATED:20250428T135830Z
LAST-MODIFIED:20251209T042105Z
UID:10004840-1817118000-1817157600@finneganspc.com
SUMMARY:Irish Sunday
DESCRIPTION:
URL:https://finneganspc.com/happening/irish-sunday/2027-08-01/
ATTACH;FMTTYPE=image/jpeg:https://finneganspc.com/wp-content/uploads/2025/04/sunday-irish-reubens-fish-n-chips.jpg
END:VEVENT
END:VCALENDAR